BEGIN:VCALENDAR
VERSION:2.0
PRODID:-//wp-events-plugin.com//7.2.3.1//EN
TZID:Europe/Paris
X-WR-TIMEZONE:Europe/Paris
BEGIN:VEVENT
UID:12@mfq-bfcasso.fr
DTSTART;TZID=Europe/Paris:20260401T140000
DTEND;TZID=Europe/Paris:20260401T170000
DTSTAMP:20260306T101118Z
URL:https://www.mfq-bfcasso.fr/events/club-qualite-et-numerique-pmpc-a-bou
 ssieres/
SUMMARY:Club Qualité et numérique - PMPC à Boussières
DESCRIPTION:
CATEGORIES:Événements
END:VEVENT
BEGIN:VTIMEZONE
TZID:Europe/Paris
X-LIC-LOCATION:Europe/Paris
BEGIN:DAYLIGHT
DTSTART:20260329T030000
TZOFFSETFROM:+0100
TZOFFSETTO:+0200
TZNAME:CEST
END:DAYLIGHT
END:VTIMEZONE
END:VCALENDAR