BEGIN:VCALENDAR
VERSION:2.0
PRODID:-//wp-events-plugin.com//7.2.3.1//EN
TZID:Europe/Paris
X-WR-TIMEZONE:Europe/Paris
BEGIN:VEVENT
UID:32@mfq-bfcasso.fr
DTSTART;TZID=Europe/Paris:20260917T170000
DTEND;TZID=Europe/Paris:20260917T190000
DTSTAMP:20260413T133158Z
URL:https://www.mfq-bfcasso.fr/events/conseil-dadministration-2026-2-au-cr
 edit-agricole-de-franche-comte/
SUMMARY:Conseil d'Administration 2026-2 au Crédit Agricole de Franche-Comt
 é
DESCRIPTION:
CATEGORIES:Événements
END:VEVENT
BEGIN:VTIMEZONE
TZID:Europe/Paris
X-LIC-LOCATION:Europe/Paris
BEGIN:DAYLIGHT
DTSTART:20260329T030000
TZOFFSETFROM:+0100
TZOFFSETTO:+0200
TZNAME:CEST
END:DAYLIGHT
END:VTIMEZONE
END:VCALENDAR