BEGIN:VCALENDAR
VERSION:2.0
PRODID:-//wp-events-plugin.com//7.2.3.1//EN
TZID:Europe/Paris
X-WR-TIMEZONE:Europe/Paris
BEGIN:VEVENT
UID:33@mfq-bfcasso.fr
DTSTART;TZID=Europe/Paris:20261210T170000
DTEND;TZID=Europe/Paris:20261210T190000
DTSTAMP:20260414T095536Z
URL:https://www.mfq-bfcasso.fr/events/conseil-dadministration-2026-3-au-cr
 edit-agricole-de-franche-comte/
SUMMARY:Conseil d'Administration 2026-3
DESCRIPTION:
CATEGORIES:Événements
END:VEVENT
BEGIN:VTIMEZONE
TZID:Europe/Paris
X-LIC-LOCATION:Europe/Paris
BEGIN:STANDARD
DTSTART:20261025T020000
TZOFFSETFROM:+0200
TZOFFSETTO:+0100
TZNAME:CET
END:STANDARD
END:VTIMEZONE
END:VCALENDAR