BEGIN:VCALENDAR
VERSION:2.0
PRODID:-//wp-events-plugin.com//7.2.3.1//EN
TZID:Europe/Paris
X-WR-TIMEZONE:Europe/Paris
BEGIN:VEVENT
UID:44@mfq-bfcasso.fr
DTSTART;TZID=Europe/Paris:20260708T084500
DTEND;TZID=Europe/Paris:20260708T133000
DTSTAMP:20260422T162522Z
URL:https://www.mfq-bfcasso.fr/events/groupe-lean-2024-01-chez-stanley-bla
 ck-decker-besancon/
SUMMARY:Groupe Lean 2024-01 Chez Stanley Black & Decker Besançon
DESCRIPTION:
CATEGORIES:Clubs et Groupes
LOCATION:Stanley Black & Decker\, 24 Rue Auguste Jouchoux  25000 Besançon\
 , 
X-APPLE-STRUCTURED-LOCATION;VALUE=URI;X-ADDRESS=24 Rue Auguste Jouchoux  25
 000 Besançon\, ;X-APPLE-RADIUS=100;X-TITLE=Stanley Black & Decker:geo:0,0
END:VEVENT
BEGIN:VTIMEZONE
TZID:Europe/Paris
X-LIC-LOCATION:Europe/Paris
BEGIN:DAYLIGHT
DTSTART:20260329T030000
TZOFFSETFROM:+0100
TZOFFSETTO:+0200
TZNAME:CEST
END:DAYLIGHT
END:VTIMEZONE
END:VCALENDAR